BEGIN:VCALENDAR
VERSION:2.0
PRODID:-//Tucson Tabernacle - ECPv6.15.17//NONSGML v1.0//EN
CALSCALE:GREGORIAN
METHOD:PUBLISH
X-ORIGINAL-URL:https://www.tucsontabernacle.com
X-WR-CALDESC:Events for Tucson Tabernacle
REFRESH-INTERVAL;VALUE=DURATION:PT1H
X-Robots-Tag:noindex
X-PUBLISHED-TTL:PT1H
BEGIN:VTIMEZONE
TZID:America/Phoenix
BEGIN:STANDARD
TZOFFSETFROM:-0700
TZOFFSETTO:-0700
TZNAME:MST
DTSTART:20250101T000000
END:STANDARD
END:VTIMEZONE
BEGIN:VEVENT
DTSTART;TZID=America/Phoenix:20260418T110000
DTEND;TZID=America/Phoenix:20260418T143000
DTSTAMP:20260419T103738
CREATED:20260307T000343Z
LAST-MODIFIED:20260326T153026Z
UID:9217-1776510000-1776522600@www.tucsontabernacle.com
SUMMARY:Ladies' Luncheon: 12 and up
DESCRIPTION:Please RSVP to Elizabeth or Stephanie by Tuesday\, April 14. \nLunch and fellowship for the ladies at Tucson Tabernacle. Please keep it to just ladies who regularly attend Tucson Tabernacle in person\, because of limited space. Ages 12 and up.
URL:https://www.tucsontabernacle.com/event/ladies-luncheon/
LOCATION:Tucson Tabernacle\, 2555 N Stone Ave\, Tucson\, AZ
END:VEVENT
END:VCALENDAR