BEGIN:VCALENDAR
VERSION:2.0
PRODID:-//Tucson Tabernacle - ECPv6.15.17//NONSGML v1.0//EN
CALSCALE:GREGORIAN
METHOD:PUBLISH
X-WR-CALNAME:Tucson Tabernacle
X-ORIGINAL-URL:https://www.tucsontabernacle.com
X-WR-CALDESC:Events for Tucson Tabernacle
REFRESH-INTERVAL;VALUE=DURATION:PT1H
X-Robots-Tag:noindex
X-PUBLISHED-TTL:PT1H
BEGIN:VTIMEZONE
TZID:America/Phoenix
BEGIN:STANDARD
TZOFFSETFROM:-0700
TZOFFSETTO:-0700
TZNAME:MST
DTSTART:20250101T000000
END:STANDARD
END:VTIMEZONE
BEGIN:VEVENT
DTSTART;TZID=America/Phoenix:20260415T190000
DTEND;TZID=America/Phoenix:20260415T210000
DTSTAMP:20260419T103703
CREATED:20260203T165959Z
LAST-MODIFIED:20260409T205804Z
UID:9053-1776279600-1776286800@www.tucsontabernacle.com
SUMMARY:Characters of the New Testament: Matthew Pt2 - Josiah Aho
DESCRIPTION:Brother Aaron Guerra leading worship
URL:https://www.tucsontabernacle.com/event/characters-of-the-new-testament/
LOCATION:Tucson Tabernacle\, 2555 N Stone Ave\, Tucson\, AZ
END:VEVENT
END:VCALENDAR