BEGIN:VCALENDAR
VERSION:2.0
PRODID:-//Tucson Tabernacle - ECPv6.15.17//NONSGML v1.0//EN
CALSCALE:GREGORIAN
METHOD:PUBLISH
X-ORIGINAL-URL:https://www.tucsontabernacle.com
X-WR-CALDESC:Events for Tucson Tabernacle
REFRESH-INTERVAL;VALUE=DURATION:PT1H
X-Robots-Tag:noindex
X-PUBLISHED-TTL:PT1H
BEGIN:VTIMEZONE
TZID:America/Phoenix
BEGIN:STANDARD
TZOFFSETFROM:-0700
TZOFFSETTO:-0700
TZNAME:MST
DTSTART:20250101T000000
END:STANDARD
END:VTIMEZONE
BEGIN:VEVENT
DTSTART;TZID=America/Phoenix:20260405T100000
DTEND;TZID=America/Phoenix:20260405T120000
DTSTAMP:20260419T104241
CREATED:20260203T171704Z
LAST-MODIFIED:20260307T002323Z
UID:9074-1775383200-1775390400@www.tucsontabernacle.com
SUMMARY:Easter: Daniel Evans
DESCRIPTION:Daniel Evans Jr leading worship
URL:https://www.tucsontabernacle.com/event/easter-daniel-evans/
LOCATION:Tucson Tabernacle\, 2555 N Stone Ave\, Tucson\, AZ
END:VEVENT
BEGIN:VEVENT
DTSTART;TZID=America/Phoenix:20260405T170000
DTEND;TZID=America/Phoenix:20260405T190000
DTSTAMP:20260419T104241
CREATED:20260203T171841Z
LAST-MODIFIED:20260203T171841Z
UID:9077-1775408400-1775415600@www.tucsontabernacle.com
SUMMARY:No Evening Service
DESCRIPTION:There will be no evening service at Tucson Tabernacle
URL:https://www.tucsontabernacle.com/event/no-evening-service-34/
LOCATION:Tucson Tabernacle\, 2555 N Stone Ave\, Tucson\, AZ
END:VEVENT
END:VCALENDAR