BEGIN:VCALENDAR
VERSION:2.0
PRODID:-//Tucson Tabernacle - ECPv6.15.17//NONSGML v1.0//EN
CALSCALE:GREGORIAN
METHOD:PUBLISH
X-ORIGINAL-URL:https://www.tucsontabernacle.com
X-WR-CALDESC:Events for Tucson Tabernacle
REFRESH-INTERVAL;VALUE=DURATION:PT1H
X-Robots-Tag:noindex
X-PUBLISHED-TTL:PT1H
BEGIN:VTIMEZONE
TZID:America/Phoenix
BEGIN:STANDARD
TZOFFSETFROM:-0700
TZOFFSETTO:-0700
TZNAME:MST
DTSTART:20250101T000000
END:STANDARD
END:VTIMEZONE
BEGIN:VEVENT
DTSTART;TZID=America/Phoenix:20260329T100000
DTEND;TZID=America/Phoenix:20260329T120000
DTSTAMP:20260419T104306
CREATED:20260203T171255Z
LAST-MODIFIED:20260203T171255Z
UID:9065-1774778400-1774785600@www.tucsontabernacle.com
SUMMARY:Brother Daniel Evans
DESCRIPTION:Josiah Aho leading worship
URL:https://www.tucsontabernacle.com/event/brother-daniel-evans-126/
LOCATION:Tucson Tabernacle\, 2555 N Stone Ave\, Tucson\, AZ
END:VEVENT
BEGIN:VEVENT
DTSTART;TZID=America/Phoenix:20260329T170000
DTEND;TZID=America/Phoenix:20260329T190000
DTSTAMP:20260419T104306
CREATED:20260203T171418Z
LAST-MODIFIED:20260306T235533Z
UID:9068-1774803600-1774810800@www.tucsontabernacle.com
SUMMARY:Brother Lyle Johnson
DESCRIPTION:Brother Aaron Guerra leading worship.
URL:https://www.tucsontabernacle.com/event/childrens-church-4/
END:VEVENT
END:VCALENDAR